BEGIN:VCALENDAR
VERSION:2.0
PRODID:-//Plone.org//NONSGML plone.app.event//EN
X-WR-TIMEZONE:Europe/Berlin
BEGIN:VEVENT
SUMMARY:Conferenza ONU sull'Acqua
DTSTART;VALUE=DATE:20230322
DTEND;VALUE=DATE:20230325
DTSTAMP;VALUE=DATE-TIME:20260423T025647Z
UID:f9f621357157424faaaeca8d1ba1aab7@www.isprambiente.gov.it
CREATED;VALUE=DATE-TIME:20230322T164822Z
DESCRIPTION:Al via oggi a New York la seconda  Conferenza ONU sull'Acqua \
 , co-organizzata da Olanda e Tagikistan con le Nazioni Unite.       Il seg
 retario generale ONU Guterres\, durante la cerimonia d'apertura\, ha ribad
 ito il rischio per le risorse e gli ecosistemi dovuto alla scarsità d'acq
 ua.       ISPRA partecipa con la delegazione italiana ai dialoghi interatt
 ivi sul tema dell’integrazione tra Stati per la tutela delle acque e deg
 li ecosistemi e per la mitigazione del rischio alluvioni e siccità in un 
     clima in continuo cambiamento ed evoluzione.
LAST-MODIFIED;VALUE=DATE-TIME:20231228T093011Z
LOCATION:New York
URL:https://www.isprambiente.gov.it/it/archivio/notizie-e-novita-normative
 /notizie-ispra/2023/03/conferenza-onu-sullacqua
END:VEVENT
END:VCALENDAR
