BEGIN:VCALENDAR
VERSION:2.0
PRODID:-//Plone.org//NONSGML plone.app.event//EN
X-WR-TIMEZONE:Europe/Berlin
BEGIN:VEVENT
SUMMARY:Disaggregation of the SDG indicator 6.4.2 (level of water stress) 
 by river basin
DTSTART;TZID=Europe/Berlin;VALUE=DATE-TIME:20230324T160000
DTEND;TZID=Europe/Berlin;VALUE=DATE-TIME:20230324T171500
DTSTAMP;VALUE=DATE-TIME:20260423T030601Z
UID:dd76cbe86b234deb9ee9ff59ceef05d2@www.isprambiente.gov.it
CREATED;VALUE=DATE-TIME:20230323T100750Z
DESCRIPTION:Il 24 marzo nell'ambito  della    Conferenza ONU sull'Acqua 
 2023   \, si terrà il  side event  organizzato dalla FAO in cui sarà p
 resentato il lavoro\, condotto dall’ISPRA nell’ambito di un apposito a
 greement con la FAO e con il supporto dell’Istat\, sul caso pilota “I
 talia” e la disaggregazione dell’indicatore SDG 6.4.2 a scala di distr
 etto idrografico. L’indicatore SDG 6.4.2 tiene traccia della quantità d
 i acqua dolce prelevata da tutte le attività economiche\, rispetto al tot
 ale delle risorse rinnovabili di acqua dolce disponibili (al netto dei fab
 bisogni idrici ambientali). Questo indicatore valuta lo stress idrico a cu
 i i corpi idrici sono soggetti a causa dei prelievi.
LAST-MODIFIED;VALUE=DATE-TIME:20231228T093012Z
LOCATION:New York
URL:https://www.isprambiente.gov.it/it/archivio/notizie-e-novita-normative
 /notizie-ispra/2023/03/disaggregation-of-the-sdg-indicator-6-4-2-level-of-
 water-stress-by-river-basin
END:VEVENT
BEGIN:VTIMEZONE
TZID:Europe/Berlin
X-LIC-LOCATION:Europe/Berlin
BEGIN:STANDARD
DTSTART;VALUE=DATE-TIME:20221030T020000
TZNAME:CET
TZOFFSETFROM:+0200
TZOFFSETTO:+0100
END:STANDARD
END:VTIMEZONE
END:VCALENDAR
