BEGIN:VCALENDAR
VERSION:2.0
PRODID:-//Plone.org//NONSGML plone.app.event//EN
X-WR-TIMEZONE:Europe/Berlin
BEGIN:VEVENT
SUMMARY:Giornata mondiale dell’acqua 2023
DTSTART;VALUE=DATE:20230322
DTEND;VALUE=DATE:20230323
DTSTAMP;VALUE=DATE-TIME:20260419T194828Z
UID:1715500d1abd4037995a42922a095f5c@www.isprambiente.gov.it
CREATED;VALUE=DATE-TIME:20230316T091229Z
DESCRIPTION:La  Giornata mondiale dell'acqua 2023  si concentrerà sull'ac
 celerazione del cambiamento per risolvere la crisi idrica e igienico-sanit
 aria.  Le problematiche che si presentano durante tutto il ciclo dell'acqu
 a minano i progressi su tutte le principali questioni globali\, dalla salu
 te alla fame\, dall'uguaglianza di genere al lavoro\, dall'istruzione all'
 industria\, dai disastri alla pace.  Nel 2015\, il mondo si è impegnato a
  raggiungere   l'obiettivo di sviluppo sostenibile (SDG) 6   dell'Agenda
  2030 – la promessa che tutti avrebbero gestito in sicurezza l'acqua e i
  servizi igienico-sanitari entro il   2030. Al momento questo obiettivo s
 arà difficilmente realizzato.
LAST-MODIFIED;VALUE=DATE-TIME:20231228T092956Z
URL:https://www.isprambiente.gov.it/it/archivio/notizie-e-novita-normative
 /notizie-ispra/2023/03/giornata-mondiale-dell2019acqua-2023
END:VEVENT
END:VCALENDAR
