BEGIN:VCALENDAR
VERSION:2.0
PRODID:-//Plone.org//NONSGML plone.app.event//EN
X-WR-TIMEZONE:Europe/Berlin
BEGIN:VEVENT
SUMMARY:Laghi\, specchio del cambiamento climatico
DTSTART;TZID=Europe/Berlin;VALUE=DATE-TIME:20230322T090000
DTEND;TZID=Europe/Berlin;VALUE=DATE-TIME:20230322T173000
DTSTAMP;VALUE=DATE-TIME:20260423T104913Z
UID:3a1ca459b5c645098eb6ed8416e4949c@www.isprambiente.gov.it
CREATED;VALUE=DATE-TIME:20230307T080901Z
DESCRIPTION:Fenomeni emergenti\, dinamiche\, potenzialità e strumenti per
  la gestione e cura del Parco dei Castelli Romani L’acqua modella il pae
 saggio nella sua fisicità\, qualifica equilibri e lineamenti di ogni luog
 o\, l’acqua entra nella storia degli individui e delle società\, alimen
 ta la vita\, il lavoro\, il pensiero e la creatività\, si manifesta con i
 l suo fluire\, con i suoi colori\, suoni\, voci. L’acqua è elemento cen
 trale dei patrimoni materiali ed immateriali\, determina la percezioni dei
  luoghi\, impregna la memoria del loro vissuto\, permea tra le pieghe ... 
 L'impatto antropico\, gli inquinanti emergenti\, l'impiego dissennato\, me
 ttono a dura prova la quantità e qualità delle acque ormai quasi ovunque
  sul pianeta\, la sicurezza del territorio e la salute dei cittadini risch
 iano di essere messi a repentaglio.
LAST-MODIFIED;VALUE=DATE-TIME:20231228T092942Z
LOCATION:Parco Regionale dei Castelli Romani - Via Cesare Battisti 5\, Roc
 ca di Papa (RM)
URL:https://www.isprambiente.gov.it/it/archivio/notizie-e-novita-normative
 /notizie-ispra/2023/03/laghi-specchio-del-cambiamento-climatico
END:VEVENT
BEGIN:VTIMEZONE
TZID:Europe/Berlin
X-LIC-LOCATION:Europe/Berlin
BEGIN:STANDARD
DTSTART;VALUE=DATE-TIME:20221030T020000
TZNAME:CET
TZOFFSETFROM:+0200
TZOFFSETTO:+0100
END:STANDARD
END:VTIMEZONE
END:VCALENDAR
