BEGIN:VCALENDAR
VERSION:2.0
PRODID:-//Plone.org//NONSGML plone.app.event//EN
X-WR-TIMEZONE:Europe/Berlin
BEGIN:VEVENT
SUMMARY:Acqua e Clima. Cambiamenti climatici: siccità e dissesto idrogeol
 ogico
DTSTART;TZID=Europe/Berlin;VALUE=DATE-TIME:20230414T091500
DTEND;TZID=Europe/Berlin;VALUE=DATE-TIME:20230414T113000
DTSTAMP;VALUE=DATE-TIME:20260423T030601Z
UID:b0b940b248d54cbbacb56fb37900c05b@www.isprambiente.gov.it
CREATED;VALUE=DATE-TIME:20230327T074942Z
DESCRIPTION:Organizzata da Uniacque\, la nuova edizione della  WaterWeek  
 (13-16 aprile) dedicata alla più preziosa delle risorse del pianeta punta
  a cogliere le tracce del passato e vincere le sfide del futuro\, legate a
 l suo utilizzo responsabile. La settimana dedicata all'acqua nasce con un 
 duplice obiettivo: da un lato agevolare il dibattito tra tecnici\, player 
 nazionali\, aziende del settore idrico e amministratori sul ruolo dell’a
 cqua\, su progetti innovativi\, sul suo valore come risorsa non infinita. 
 Dall’altro avvicinare sempre più i cittadini alla cultura dell’acqua 
 e al suo uso intelligente\, da conservare con grande attenzione.
LAST-MODIFIED;VALUE=DATE-TIME:20240108T092149Z
LOCATION:Bergamo
URL:https://www.isprambiente.gov.it/it/archivio/notizie-e-novita-normative
 /notizie-ispra/2023/04/acqua-e-clima-cambiamenti-climatici-siccita-e-disse
 sto-idrogeologico
END:VEVENT
BEGIN:VTIMEZONE
TZID:Europe/Berlin
X-LIC-LOCATION:Europe/Berlin
BEGIN:DAYLIGHT
DTSTART;VALUE=DATE-TIME:20230326T030000
TZNAME:CEST
TZOFFSETFROM:+0100
TZOFFSETTO:+0200
END:DAYLIGHT
END:VTIMEZONE
END:VCALENDAR
