BEGIN:VCALENDAR
VERSION:2.0
PRODID:-//Plone.org//NONSGML plone.app.event//EN
X-WR-TIMEZONE:Europe/Berlin
BEGIN:VEVENT
SUMMARY:Tor Caldara: un itinerario tra geologia\, ambiente e storia
DTSTART;TZID=Europe/Berlin;VALUE=DATE-TIME:20230422T103000
DTSTAMP;VALUE=DATE-TIME:20260423T004743Z
UID:c009b6b352e54f7599f6735d48ab6a74@www.isprambiente.gov.it
CREATED;VALUE=DATE-TIME:20230323T093051Z
DESCRIPTION:Le passeggiate geologiche con ISPRA La Riserva Naturale di Tor
  Caldara è ubicata a sud di Roma\, tra Anzio e Lavinio\, e rappresenta un
 o scrigno geologico-ambientale di valore unico. L’area costituisce una r
 ara testimonianza delle antiche foreste litoranee lungo la costa del Lazio
  meridionale e fino a un recente passato è stata sfruttata per la coltiva
 zione mineraria dello zolfo\, la cui presenza è legata all’attività se
 condaria del distretto vulcanico laziale.  L’escursione condurrà i visi
 tatori alla scoperta dei caratteri geologici e ambientali della Riserva\, 
 che si mostra particolarmente adatta a fini educativi per gli spettacolari
  fenomeni vulcanici secondari ancora attivi e per l’importanza naturalis
 tica degli habitat presenti
LAST-MODIFIED;VALUE=DATE-TIME:20260120T102447Z
LOCATION:Ingresso della Riserva Naturale Regionale di Tor Caldara\, Litora
 nea Ostia Anzio (SP 601) km 34\,400\, 00042 Anzio (RM)
URL:https://www.isprambiente.gov.it/it/archivio/notizie-e-novita-normative
 /notizie-ispra/2023/04/tor-caldara-un-itinerario-tra-geologia-ambiente-e-s
 toria
END:VEVENT
BEGIN:VTIMEZONE
TZID:Europe/Berlin
X-LIC-LOCATION:Europe/Berlin
BEGIN:DAYLIGHT
DTSTART;VALUE=DATE-TIME:20230326T030000
TZNAME:CEST
TZOFFSETFROM:+0100
TZOFFSETTO:+0200
END:DAYLIGHT
END:VTIMEZONE
END:VCALENDAR
