BEGIN:VCALENDAR
VERSION:2.0
PRODID:-//Plone.org//NONSGML plone.app.event//EN
X-WR-TIMEZONE:Europe/Berlin
BEGIN:VEVENT
SUMMARY:Forestazione urbana e Nature based solutions per il futuro sosteni
 bile delle città
DTSTART;TZID=Europe/Berlin;VALUE=DATE-TIME:20230517T101500
DTEND;TZID=Europe/Berlin;VALUE=DATE-TIME:20230517T140000
DTSTAMP;VALUE=DATE-TIME:20260423T220341Z
UID:971b7689ee63479a927c85b4312fb622@www.isprambiente.gov.it
CREATED;VALUE=DATE-TIME:20230502T061643Z
DESCRIPTION:Il Green deal europeo\, il Next generation Eu e la Strategia e
 uropea per la biodiversità pongono al centro della restoration ecology il
  ritorno della natura nella nostra vita e\, in particolare\, nelle città.
  Il Piano nazionale di ripresa e resilienza (Pnrr)\, su proposta del minis
 tero dell’Ambiente e della sicurezza energetica\, ha finanziato una misu
 ra dedicata alla forestazione urbana delle 14 Città metropolitane.
LAST-MODIFIED;VALUE=DATE-TIME:20240108T092625Z
LOCATION:Orto Botanico di Roma
URL:https://www.isprambiente.gov.it/it/archivio/notizie-e-novita-normative
 /notizie-ispra/2023/05/forestazione-urbana-e-nature-based-solutions-per-il
 -futuro-sostenibile-delle-citta
END:VEVENT
BEGIN:VTIMEZONE
TZID:Europe/Berlin
X-LIC-LOCATION:Europe/Berlin
BEGIN:DAYLIGHT
DTSTART;VALUE=DATE-TIME:20230326T030000
TZNAME:CEST
TZOFFSETFROM:+0100
TZOFFSETTO:+0200
END:DAYLIGHT
END:VTIMEZONE
END:VCALENDAR
