BEGIN:VCALENDAR
VERSION:2.0
PRODID:-//Plone.org//NONSGML plone.app.event//EN
X-WR-TIMEZONE:Europe/Berlin
BEGIN:VEVENT
SUMMARY:La gestione dei sedimenti negli invasi artificiali in un contesto 
 di economia circolare
DTSTART;TZID=Europe/Berlin;VALUE=DATE-TIME:20230530T093000
DTEND;TZID=Europe/Berlin;VALUE=DATE-TIME:20230530T163000
DTSTAMP;VALUE=DATE-TIME:20260423T062501Z
UID:dd590363be254629a9e1214f76c319bd@www.isprambiente.gov.it
CREATED;VALUE=DATE-TIME:20230523T120722Z
DESCRIPTION:Nella giornata si discuterà dell’interrimento dei serbatoi 
 artificiali italiani anche alla luce del Nuovo Regolamento (Decreto 12 ott
 obre 2022 \, n. 205 GU del 10 gennaio 2023).   Verranno discusse possibili
 tà di riutilizzo dei sedimenti e presentati case histories di intervento.
  L’evento si concluderà con una tavola rotonda che porrà a confronto i
  punti di vista di: istituzioni\, gestori e mondo produttivo.
LAST-MODIFIED;VALUE=DATE-TIME:20240109T132152Z
LOCATION:Roma/Online
URL:https://www.isprambiente.gov.it/it/archivio/notizie-e-novita-normative
 /notizie-ispra/2023/05/la-gestione-dei-sedimenti-negli-invasi-artificiali-
 in-un-contesto-di-economia-circolare
END:VEVENT
BEGIN:VTIMEZONE
TZID:Europe/Berlin
X-LIC-LOCATION:Europe/Berlin
BEGIN:DAYLIGHT
DTSTART;VALUE=DATE-TIME:20230326T030000
TZNAME:CEST
TZOFFSETFROM:+0100
TZOFFSETTO:+0200
END:DAYLIGHT
END:VTIMEZONE
END:VCALENDAR
