BEGIN:VCALENDAR
VERSION:2.0
PRODID:-//Plone.org//NONSGML plone.app.event//EN
X-WR-TIMEZONE:Europe/Berlin
BEGIN:VEVENT
SUMMARY:Orsi\, lupi e cinghiali: al confine della convivenza
DTSTART;TZID=Europe/Berlin;VALUE=DATE-TIME:20230520T143000
DTEND;TZID=Europe/Berlin;VALUE=DATE-TIME:20230520T153000
DTSTAMP;VALUE=DATE-TIME:20260423T134740Z
UID:a2e484bf6cea418595f03d176cea229a@www.isprambiente.gov.it
CREATED;VALUE=DATE-TIME:20230516T070853Z
DESCRIPTION:Dal 19 al 21 maggio si tiene il  Food&Science Festival \, un e
 vento di divulgazione scientifica di rilievo nazionale e internazionale ch
 e affronta e approfondisce in maniera creativa e accessibile le tematiche 
 legate alla scienza della produzione e del consumo del cibo. Il 20 maggio 
 un ricercatore ISPRA partecipa all'incontro "Orsi\, lupi e cinghiali: al c
 onfine della convivenza".
LAST-MODIFIED;VALUE=DATE-TIME:20240109T132151Z
LOCATION:Mantova
URL:https://www.isprambiente.gov.it/it/archivio/notizie-e-novita-normative
 /notizie-ispra/2023/05/orsi-lupi-e-cinghiali-al-confine-della-convivenza
END:VEVENT
BEGIN:VTIMEZONE
TZID:Europe/Berlin
X-LIC-LOCATION:Europe/Berlin
BEGIN:DAYLIGHT
DTSTART;VALUE=DATE-TIME:20230326T030000
TZNAME:CEST
TZOFFSETFROM:+0100
TZOFFSETTO:+0200
END:DAYLIGHT
END:VTIMEZONE
END:VCALENDAR
