BEGIN:VCALENDAR
VERSION:2.0
PRODID:-//Plone.org//NONSGML plone.app.event//EN
X-WR-TIMEZONE:Europe/Berlin
BEGIN:VEVENT
SUMMARY:Conferenza regionale sull’acqua
DTSTART;TZID=Europe/Berlin;VALUE=DATE-TIME:20230619T090000
DTEND;TZID=Europe/Berlin;VALUE=DATE-TIME:20230619T140000
DTSTAMP;VALUE=DATE-TIME:20260423T025739Z
UID:b4fbd4dea84146cd94be6c776a2d3843@www.isprambiente.gov.it
CREATED;VALUE=DATE-TIME:20230613T122422Z
DESCRIPTION:Rappresentanti istituzionali ma anche i principali soggetti co
 involti nella tutela dell'acqua\, si confronteranno per approfondire e ana
 lizzare\, anche grazie agli eventi collaterali alla Conferenza\, tutte le 
 tematiche connesse alla risorsa idrica: la siccità\, le possibilità di r
 iuso delle acque depurate e il rischio idrogeologico.
LAST-MODIFIED;VALUE=DATE-TIME:20240110T084352Z
LOCATION:Firenze
URL:https://www.isprambiente.gov.it/it/archivio/notizie-e-novita-normative
 /notizie-ispra/2023/06/conferenza-regionale-sull2019acqua
END:VEVENT
BEGIN:VTIMEZONE
TZID:Europe/Berlin
X-LIC-LOCATION:Europe/Berlin
BEGIN:DAYLIGHT
DTSTART;VALUE=DATE-TIME:20230326T030000
TZNAME:CEST
TZOFFSETFROM:+0100
TZOFFSETTO:+0200
END:DAYLIGHT
END:VTIMEZONE
END:VCALENDAR
