BEGIN:VCALENDAR
VERSION:2.0
PRODID:-//Plone.org//NONSGML plone.app.event//EN
X-WR-TIMEZONE:Europe/Berlin
BEGIN:VEVENT
SUMMARY:Dragaggio ed immissione in mare dei sedimenti del porto di Casamic
 ciola
DTSTART;VALUE=DATE:20230601
DTEND;VALUE=DATE:20230602
DTSTAMP;VALUE=DATE-TIME:20260421T161539Z
UID:0e7986d71d6b46cd9dca83748608626a@www.isprambiente.gov.it
CREATED;VALUE=DATE-TIME:20230531T093346Z
DESCRIPTION:Ricercatori ISPRA parteciperanno il 1 giugno al  dragaggio de
 l Porto di Casamicciola Terme\, rimasto parzialmente interdetto alle imbar
 cazioni a seguito della frana del 26 novembre. Il progetto ha come obiett
 ivo ripristinare i fondali nello specchio d’acqua antistante l’approdo
  del comune ischitano travolto dalla frana.     ISPRA insieme all'ARPA Cam
 pania\, all'Area Maria Protetta\, alla Stazione Zoologica Anton Dohrn e al
 la Capitaneria di Porto fanno parte del tavolo tecnico che si occupa del r
 ipristino dei fondali.
LAST-MODIFIED;VALUE=DATE-TIME:20240109T132656Z
LOCATION:Ischia - Casamicciola
URL:https://www.isprambiente.gov.it/it/archivio/notizie-e-novita-normative
 /notizie-ispra/2023/06/dragaggio-ed-immissione-in-mare-dei-sedimenti-del-p
 orto-di-casamicciola
END:VEVENT
END:VCALENDAR
