BEGIN:VCALENDAR
VERSION:2.0
PRODID:-//Plone.org//NONSGML plone.app.event//EN
X-WR-TIMEZONE:Europe/Berlin
BEGIN:VEVENT
SUMMARY:Il Presidente ISPRA e SNPA nuovo vicepresidente del Management Boa
 rd dell'Agenzia Europea dell'Ambiente
DTSTART;VALUE=DATE:20230608
DTEND;VALUE=DATE:20230609
DTSTAMP;VALUE=DATE-TIME:20260424T115514Z
UID:7885a0d8d8474ed5b8cfa03b8fa2b43c@www.isprambiente.gov.it
CREATED;VALUE=DATE-TIME:20230608T155451Z
DESCRIPTION:Si è tenuto l'8 giugno il 99° meeting del Management Board 
  dell'Agenzia Europea dell'Ambiente.  Tra i punti all'ordine del giorno\,
  l'elezione del nuovo vicepresidente: con 26 voti su 29 è stato eletto il
  Presidente dell’ISPRA e del SNPA\, Stefano Laporta\, confermando il nos
 tro Paese alla vicepresidenza del management board. “Onorato di questa n
 omina\, ringrazio il Ministro dell’Ambiente\, Gilberto Pichetto Fratin p
 er il sostegno e Alessandro Bratti per il lavoro svolto ed i colleghi per 
 la fiducia. Porterò avanti anche in questa veste il mio impegno per raff
 orzare la posizione del Paese nel contesto comunitario e per accelerare il
  passo nel percorso verso la sostenibilità” - ha dichiarato il Presiden
 te Laporta.
LAST-MODIFIED;VALUE=DATE-TIME:20240110T084339Z
URL:https://www.isprambiente.gov.it/it/archivio/notizie-e-novita-normative
 /notizie-ispra/2023/06/il-presidente-ispra-e-snpa-nuovo-vicepresidente-mb-
 agenzia-europea-per-l2019ambiente
END:VEVENT
END:VCALENDAR
