BEGIN:VCALENDAR
VERSION:2.0
PRODID:-//Plone.org//NONSGML plone.app.event//EN
X-WR-TIMEZONE:Europe/Berlin
BEGIN:VEVENT
SUMMARY:Il rapporto sociale\, bilancio dei valori e della capacità di spe
 sa quale misura di performance nelle attività di risanamento del territor
 io
DTSTART;TZID=Europe/Berlin;VALUE=DATE-TIME:20230606T150000
DTEND;TZID=Europe/Berlin;VALUE=DATE-TIME:20230606T180000
DTSTAMP;VALUE=DATE-TIME:20260421T161639Z
UID:cec2636566f84a60a83189cd638a3c57@www.isprambiente.gov.it
CREATED;VALUE=DATE-TIME:20230517T094100Z
DESCRIPTION:Il primo Bilancio Sociale della missione del  Commissario un
 ico per la realizzazione degli interventi necessari all’adeguamento alla
  normativa vigente delle discariche abusive presenti sul territorio nazion
 ale  evidenzia gli impatti favorevoli sul territorio delle azioni di disi
 nquinamento messe in moto dal 2017\, anno di incarico all’Arma dei Carab
 inieri per questa missione e di nomina del Commissario. Rendere conto alla
  cittadinanza del lavoro effettuato per essere trasparenti e non per appar
 ire\, ma per mostrare le azioni svolte e i risultati raggiunti in termini 
 di sostenibilità assicurata al Paese\, questo è un obbiettivo non second
 ario della missione.
LAST-MODIFIED;VALUE=DATE-TIME:20240109T132502Z
LOCATION:Roma\, Camera dei Deputati
URL:https://www.isprambiente.gov.it/it/archivio/notizie-e-novita-normative
 /notizie-ispra/2023/06/il-rapporto-sociale-bilancio-dei-valori-e-della-cap
 acita-di-spesa-quale-misura-di-performance-nelle-attivita-di-risanamento-d
 el-territorio
END:VEVENT
BEGIN:VTIMEZONE
TZID:Europe/Berlin
X-LIC-LOCATION:Europe/Berlin
BEGIN:DAYLIGHT
DTSTART;VALUE=DATE-TIME:20230326T030000
TZNAME:CEST
TZOFFSETFROM:+0100
TZOFFSETTO:+0200
END:DAYLIGHT
END:VTIMEZONE
END:VCALENDAR
