BEGIN:VCALENDAR
VERSION:2.0
PRODID:-//Plone.org//NONSGML plone.app.event//EN
X-WR-TIMEZONE:Europe/Berlin
BEGIN:VEVENT
SUMMARY:Il Vicesindaco della città di Chengdu visita ISPRA con delegazion
 e
DTSTART;VALUE=DATE:20230608
DTEND;VALUE=DATE:20230609
DTSTAMP;VALUE=DATE-TIME:20260423T025833Z
UID:e4134b1a560242638a152ba26201ec2b@www.isprambiente.gov.it
CREATED;VALUE=DATE-TIME:20230609T110556Z
DESCRIPTION:Il giorno 8 giugno si è svolta in ISPRA la visita di una dele
 gazione cinese della città di Chengdu. La delegazione guidata dal Vicesin
 daco e composta da dirigenti e funzionari dell’amministrazione comunale 
 di Chengdu e dell’Accademia delle Scienze Ambientali ha discusso con gli
  esperti ISPRA di aspetti collegati alla siccità\, ai cambiamenti climati
 ci e alla qualità dell’aria. Chengdu città della provincia del Sichuan
  nel sud-ovest della Cina\, nota per la più importante base di ricerca e 
 allevamento del Panda Gigante è uno dei centri economici più importanti 
 del Paese e conta circa 20 milioni di abitanti.
LAST-MODIFIED;VALUE=DATE-TIME:20240110T084351Z
LOCATION:Roma\, sede ISPRA
URL:https://www.isprambiente.gov.it/it/archivio/notizie-e-novita-normative
 /notizie-ispra/2023/06/il-vicesindaco-della-citta-di-chengdu-visita-ispra-
 con-delegazione
END:VEVENT
END:VCALENDAR
