BEGIN:VCALENDAR
VERSION:2.0
PRODID:-//Plone.org//NONSGML plone.app.event//EN
X-WR-TIMEZONE:Europe/Berlin
BEGIN:VEVENT
SUMMARY:Significativo aumento dei rifiuti speciali dopo la pandemia: +12\,
 2%
DTSTART;VALUE=DATE:20230718
DTEND;VALUE=DATE:20230719
DTSTAMP;VALUE=DATE-TIME:20260421T231353Z
UID:be9a7164475a4082905232460155e008@www.isprambiente.gov.it
CREATED;VALUE=DATE-TIME:20230714T105123Z
DESCRIPTION:ISPRA pubblica il Rapporto Rifiuti Speciali Edizione 2023   Do
 po il fermo delle attività economiche dovuto alla crisi pandemica\, nel 2
 021 si registra una crescita significativa nella produzione dei rifiuti sp
 eciali\, che raggiunge 165 milioni di tonnellate. L’aumento del 12\,2% c
 orrisponde a circa 18 milioni di tonnellate. La ripresa nei settori indust
 riale\, artigianale e dei servizi segna un aumento dei rifiuti generati da
 lle attività produttive.
LAST-MODIFIED;VALUE=DATE-TIME:20240110T085347Z
URL:https://www.isprambiente.gov.it/it/archivio/notizie-e-novita-normative
 /notizie-ispra/2023/07/on-line-ledizione-2023-del-rapporto-rifiuti-special
 i
END:VEVENT
END:VCALENDAR
