BEGIN:VCALENDAR
VERSION:2.0
PRODID:-//Plone.org//NONSGML plone.app.event//EN
X-WR-TIMEZONE:Europe/Berlin
BEGIN:VEVENT
SUMMARY:La transizione ecologica dell'acqua. Conoscenza\, qualità\, integ
 razione
DTSTART;TZID=Europe/Berlin;VALUE=DATE-TIME:20231004T090000
DTEND;TZID=Europe/Berlin;VALUE=DATE-TIME:20231004T130000
DTSTAMP;VALUE=DATE-TIME:20260423T025954Z
UID:92bb208583ba4402b881e501e2d0eb0f@www.isprambiente.gov.it
CREATED;VALUE=DATE-TIME:20230926T114005Z
DESCRIPTION:Per fronteggiare la sempre più costante crisi idrica che l’
 Italia sta vivendo ormai da diversi anni\, serve una strategia per la tran
 sizione ecologica dell’acqua\, che renda sempre più sostenibile la nost
 ra impronta idrica in tutti i settori e che metta l’acqua al centro dell
 ’adattamento alla crisi climatica. Dalla siccità alle alluvioni\, dalla
  tutela degli ecosistemi agli usi antropici\, la gestione dell’acqua pas
 sa attraverso una visione unica che garantisca il raggiungimento degli obi
 ettivi globali.
LAST-MODIFIED;VALUE=DATE-TIME:20240112T083526Z
LOCATION:Roma
URL:https://www.isprambiente.gov.it/it/archivio/notizie-e-novita-normative
 /notizie-ispra/2023/09/la-transizione-ecologica-dellacqua-conoscenza-quali
 ta-integrazione
END:VEVENT
BEGIN:VTIMEZONE
TZID:Europe/Berlin
X-LIC-LOCATION:Europe/Berlin
BEGIN:DAYLIGHT
DTSTART;VALUE=DATE-TIME:20230326T030000
TZNAME:CEST
TZOFFSETFROM:+0100
TZOFFSETTO:+0200
END:DAYLIGHT
END:VTIMEZONE
END:VCALENDAR
