BEGIN:VCALENDAR
VERSION:2.0
PRODID:-//Plone.org//NONSGML plone.app.event//EN
X-WR-TIMEZONE:Europe/Berlin
BEGIN:VEVENT
SUMMARY:Giornata internazionale per la Riduzione del Rischio dei Disastri 
 Naturali
DTSTART;VALUE=DATE:20231013
DTEND;VALUE=DATE:20231014
DTSTAMP;VALUE=DATE-TIME:20260423T025954Z
UID:a0f877a3fc2749abb11493e5fc956c97@www.isprambiente.gov.it
CREATED;VALUE=DATE-TIME:20231012T084636Z
DESCRIPTION:La Giornata internazionale per la Riduzione del Rischio dei 
 Disastri Naturali\, conosciuta in tutto il mondo come  International Day 
 for Disaster Risk Reduction \, si celebra il 13 ottobre.  La giornata nasc
 e per volere dell’Assemblea Generale delle Nazioni Unite nel 1989.
   L’obiettivo dell’istituzione di tale giornata è mandare un importan
 te segnale ai Governi di tutti i paesi del mondo nonché alle organizzazio
 ni internazionali e alla popolazione globale\, per riflettere sulla sempre
  maggiore frequenza e consistenza con cui si verificano le catastrofi natu
 rali.
LAST-MODIFIED;VALUE=DATE-TIME:20240112T090925Z
URL:https://www.isprambiente.gov.it/it/archivio/notizie-e-novita-normative
 /notizie-ispra/2023/10/giornata-internazionale-per-la-riduzione-del-rischi
 o-dei-disastri-naturali-1
END:VEVENT
END:VCALENDAR
