BEGIN:VCALENDAR
VERSION:2.0
PRODID:-//Plone.org//NONSGML plone.app.event//EN
X-WR-TIMEZONE:Europe/Berlin
BEGIN:VEVENT
SUMMARY:La transizione verso una gestione sostenibile e «circolare» dell
 a posidonia spiaggiata e delle plastiche nei territori costieri e insulari
DTSTART;TZID=Europe/Berlin;VALUE=DATE-TIME:20231024T100000
DTEND;TZID=Europe/Berlin;VALUE=DATE-TIME:20231024T130000
DTSTAMP;VALUE=DATE-TIME:20260420T124755Z
UID:3b72a364e7ac44b98c6b8a13d5a4e539@www.isprambiente.gov.it
CREATED;VALUE=DATE-TIME:20231023T083250Z
DESCRIPTION:Nel corso dell'evento saranno presentati i risultati del proge
 tto  MED Dé.Co.U.Plages \, di cui ISPRA è partner\, cofinanziato dal Pro
 gramma ENI di Cooperazione Territoriale Italia - Tunisia 2014-2020. L'even
 to vuole illustrare e porre a confronto modalità di gestione e buone prat
 iche\, a partire dai risultati conseguiti con il progetto\, tracciando le 
 prospettive di sviluppo in ambito mediterraneo e internazionale.
LAST-MODIFIED;VALUE=DATE-TIME:20240112T091321Z
LOCATION:Favignana\, Palazzo Florio e online
URL:https://www.isprambiente.gov.it/it/archivio/notizie-e-novita-normative
 /notizie-ispra/2023/10/la-transizione-verso-una-gestione-sostenibile-e-cir
 colare-della-posidonia-spiaggiata-e-delle-plastiche-nei-territori-costieri
 -e-insulari
END:VEVENT
BEGIN:VTIMEZONE
TZID:Europe/Berlin
X-LIC-LOCATION:Europe/Berlin
BEGIN:DAYLIGHT
DTSTART;VALUE=DATE-TIME:20230326T030000
TZNAME:CEST
TZOFFSETFROM:+0100
TZOFFSETTO:+0200
END:DAYLIGHT
END:VTIMEZONE
END:VCALENDAR
