BEGIN:VCALENDAR
VERSION:2.0
PRODID:-//Plone.org//NONSGML plone.app.event//EN
X-WR-TIMEZONE:Europe/Berlin
BEGIN:VEVENT
SUMMARY:L'albero cittadino
DTSTART;TZID=Europe/Berlin;VALUE=DATE-TIME:20231122T090000
DTEND;TZID=Europe/Berlin;VALUE=DATE-TIME:20231122T130000
DTSTAMP;VALUE=DATE-TIME:20260424T112556Z
UID:3d04e02163b24577b5be2476b6c77182@www.isprambiente.gov.it
CREATED;VALUE=DATE-TIME:20231027T071547Z
DESCRIPTION:Il  21 novembre  si celebra la  Giornata nazionale degli al
 beri \, istituita come ricorrenza nazionale con una legge della Repubblica
  entrata in vigore dal febbraio 2013. L’obiettivo di questa celebrazione
  è quello di valorizzare l’importanza del patrimonio arboreo e di ricor
 dare il ruolo fondamentale ricoperto da boschi e foreste.
LAST-MODIFIED;VALUE=DATE-TIME:20240118T075947Z
LOCATION:Scampia (NA)
URL:https://www.isprambiente.gov.it/it/archivio/notizie-e-novita-normative
 /notizie-ispra/2023/10/lalbero-cittadino
END:VEVENT
BEGIN:VTIMEZONE
TZID:Europe/Berlin
X-LIC-LOCATION:Europe/Berlin
BEGIN:STANDARD
DTSTART;VALUE=DATE-TIME:20231029T020000
TZNAME:CET
TZOFFSETFROM:+0200
TZOFFSETTO:+0100
END:STANDARD
END:VTIMEZONE
END:VCALENDAR
