BEGIN:VCALENDAR
VERSION:2.0
PRODID:-//Plone.org//NONSGML plone.app.event//EN
X-WR-TIMEZONE:Europe/Berlin
BEGIN:VEVENT
SUMMARY:Giornata informativa su riutilizzo e depurazione delle acque reflu
 e affinate
DTSTART;VALUE=DATE:20231215
DTEND;VALUE=DATE:20231216
DTSTAMP;VALUE=DATE-TIME:20260423T025834Z
UID:d61884a4f0114d8e9e2a13116c77f448@www.isprambiente.gov.it
CREATED;VALUE=DATE-TIME:20231212T140813Z
DESCRIPTION:Il 15 dicembre\, presso l’Auditorium “Ilaria Alpi e Milan 
 Hrovatin” del Ministero dell’Ambiente e della Sicurezza Energetica\, s
 i terrà una giornata informativa dedicata ai temi del riutilizzo e della 
 depurazione delle acque reflue affinate. L’iniziativa è finalizzata a s
 ensibilizzare rispetto alla preziosa misura di economia circolare che la p
 ratica del riutilizzo costituisce\, punta anche a condividere la linea ope
 rativa realizzata dal MASE nel redigendo DPR\, che darà attuazione alle n
 orme sostanziali del regolamento comunitario\, armonizzando la disciplina 
 con l’impianto amministrativo nazionale ed estendendo l’ambito di appl
 icazione agli usi ambientali\, civili e industriali.
LAST-MODIFIED;VALUE=DATE-TIME:20240125T080151Z
LOCATION:Roma
URL:https://www.isprambiente.gov.it/it/archivio/notizie-e-novita-normative
 /notizie-ispra/2023/12/giornata-informativa-su-riutilizzo-e-depurazione-de
 lle-acque-reflue-affinate
END:VEVENT
END:VCALENDAR
