BEGIN:VCALENDAR
VERSION:2.0
PRODID:-//Plone.org//NONSGML plone.app.event//EN
X-WR-TIMEZONE:Europe/Berlin
BEGIN:VEVENT
SUMMARY:XII Tavolo nazionale dei Contratti di Fiume
DTSTART;VALUE=DATE:20231218
DTEND;VALUE=DATE:20231220
DTSTAMP;VALUE=DATE-TIME:20260423T025954Z
UID:38d8bfd2f6894b008316906a885ef78b@www.isprambiente.gov.it
CREATED;VALUE=DATE-TIME:20231213T093459Z
DESCRIPTION:Il 18 e 19 dicembre 2023\, in collaborazione con Regione Campa
 nia e con il patrocinio di WWAP UNESCO\, Ministero dell’Ambiente\, Minis
 tero dell’Agricoltura e ISPRA\, con il contributo organizzativo di Alta 
 Scuola\, Coordinamento A21 Locali\, INU e ANCI\, si terrà a Napoli il XII
  Tavolo Nazionale dei Contratti di Fiume avente l’obiettivo di fare il p
 unto sui contratti di Fiume in Italia e avanzare proposte operative per il
  futuro.
LAST-MODIFIED;VALUE=DATE-TIME:20240125T080151Z
LOCATION:Napoli\, Università degli Studi di Napoli Federico II
URL:https://www.isprambiente.gov.it/it/archivio/notizie-e-novita-normative
 /notizie-ispra/2023/12/xii-tavolo-nazionale-dei-contratti-di-fiume
END:VEVENT
END:VCALENDAR
