BEGIN:VCALENDAR
VERSION:2.0
PRODID:-//Plone.org//NONSGML plone.app.event//EN
X-WR-TIMEZONE:Europe/Berlin
BEGIN:VEVENT
SUMMARY:Future Minerals Forum
DTSTART;VALUE=DATE:20240109
DTEND;VALUE=DATE:20240110
DTSTAMP;VALUE=DATE-TIME:20260423T003611Z
UID:633730cefbed43ec9552fdab3ff45c9a@www.isprambiente.gov.it
CREATED;VALUE=DATE-TIME:20240108T100541Z
DESCRIPTION:Il Servizio Geologico di ISPRA parteciperà alla tavola dei se
 rvizi geologici nell'ambito del  Future Minerals Forum  che si terrà a Ri
 yadh il 09 gennaio pomeriggio. Materie critiche e strategiche per la trans
 izione ecologica ed energetica sostenibile\, i temi che i ricercatori ISPR
 A discuteranno nell'ambito della manifestazione.
LAST-MODIFIED;VALUE=DATE-TIME:20250107T092642Z
LOCATION:Riyadh
URL:https://www.isprambiente.gov.it/it/archivio/notizie-e-novita-normative
 /notizie-ispra/2024/01/future-minerals-forum
END:VEVENT
END:VCALENDAR
