BEGIN:VCALENDAR
VERSION:2.0
PRODID:-//Plone.org//NONSGML plone.app.event//EN
X-WR-TIMEZONE:Europe/Berlin
BEGIN:VEVENT
SUMMARY:Le Frontiere dell'Ecotossicologia
DTSTART;TZID=Europe/Berlin;VALUE=DATE-TIME:20240226T090000
DTEND;TZID=Europe/Berlin;VALUE=DATE-TIME:20240226T133000
DTSTAMP;VALUE=DATE-TIME:20260423T021211Z
UID:872255f62dfd45128e203259f1bcc0c2@www.isprambiente.gov.it
CREATED;VALUE=DATE-TIME:20240220T123915Z
DESCRIPTION:Organizzato dal Dipartimento di Farmacia dell’ateneo federic
 iano\, il meeting è volto a evidenziare il ruolo dell’ecotossicologia n
 ella valutazione della qualità e del rischio ambientale e l’importanza 
 dell’approccio ecotossicologico nella gestione e nella bonifica ambienta
 le. Interverranno\, come relatori\, esperti di ambito universitario\, dell
 ’Istituto di Ricerca sulle Acque del CNR\, di ISPRA\, dell’Istituto Su
 periore di Sanità\, dell’Arpa Campania.
LAST-MODIFIED;VALUE=DATE-TIME:20250107T093214Z
LOCATION:Napoli
URL:https://www.isprambiente.gov.it/it/archivio/notizie-e-novita-normative
 /notizie-ispra/2024/02/le-frontiere-dellecotossicologia
END:VEVENT
BEGIN:VTIMEZONE
TZID:Europe/Berlin
X-LIC-LOCATION:Europe/Berlin
BEGIN:STANDARD
DTSTART;VALUE=DATE-TIME:20231029T020000
TZNAME:CET
TZOFFSETFROM:+0200
TZOFFSETTO:+0100
END:STANDARD
END:VTIMEZONE
END:VCALENDAR
