BEGIN:VCALENDAR
VERSION:2.0
PRODID:-//Plone.org//NONSGML plone.app.event//EN
X-WR-TIMEZONE:Europe/Berlin
BEGIN:VEVENT
SUMMARY:OrvietoScienza2024 - Nutrire il futuro: può la sostenibilità ess
 ere la chiave per il sistema agroalimentare?
DTSTART;VALUE=DATE:20240229
DTEND;VALUE=DATE:20240303
DTSTAMP;VALUE=DATE-TIME:20260423T135337Z
UID:6143c3015ea1494fbd8be537776452c0@www.isprambiente.gov.it
CREATED;VALUE=DATE-TIME:20240229T145722Z
DESCRIPTION:Il sistema alimentare globale\, che include l’intera filiera
  dalla produzione fino al consumo\, contribuisce per circa il 25-30% delle
  emissioni antropogeniche di gas serra. Ce lo dice il rapporto speciale IP
 CC Climate Change and Land del 2019. Le Nazioni Unite stimano che la popol
 azione dell’Africa subsahariana raddoppierà entro il 2050\, aggiungendo
  un ulteriore miliardo e mezzo di persone con i loro bisogni alimentari. C
 ome conciliare le esigenze\, in prima istanza opposte\, che scaturiscono d
 a questi due dati\, tra tutti?
LAST-MODIFIED;VALUE=DATE-TIME:20250107T093214Z
LOCATION:Orvieto
URL:https://www.isprambiente.gov.it/it/archivio/notizie-e-novita-normative
 /notizie-ispra/2024/02/orvietoscienza2024-nutrire-il-futuro-puo-la-sosteni
 bilita-essere-la-chiave-per-il-sistema-agroalimentare
END:VEVENT
END:VCALENDAR
