BEGIN:VCALENDAR
VERSION:2.0
PRODID:-//Plone.org//NONSGML plone.app.event//EN
X-WR-TIMEZONE:Europe/Berlin
BEGIN:VEVENT
SUMMARY:Dall'emergenza all'efficienza idrica
DTSTART;TZID=Europe/Berlin;VALUE=DATE-TIME:20240322T090000
DTEND;TZID=Europe/Berlin;VALUE=DATE-TIME:20240322T150000
DTSTAMP;VALUE=DATE-TIME:20260423T030601Z
UID:27adc259ab134c4b959b80430e6d3b32@www.isprambiente.gov.it
CREATED;VALUE=DATE-TIME:20240312T123415Z
DESCRIPTION:Il Direttore Generale ISPRA\, Maria Siclari\, è intervenuta o
 ggi al convegno “Dall’emergenza all’efficienza idrica” organizzato
  da Confindustria. ”I dati ISPRA appena diffusi evidenziano per il 2023 
 una riduzione del 18% della disponibilità idrica rispetto alla media annu
 a del periodo 1951–2023. È essenziale colmare il deficit conoscitivo su
 i prelievi e le restituzioni ai corpi idrici per una gestione ottimale del
 la risorsa acqua. Questi dati sono fondamentali anche per formulare un ade
 guato giudizio di sostenibilità sull’uso dell’acqua nei cicli produtt
 ivi ed evitare il greenwashing."
LAST-MODIFIED;VALUE=DATE-TIME:20250107T094359Z
LOCATION:Roma\, Viale dell'Astronomia\, 30
URL:https://www.isprambiente.gov.it/it/archivio/notizie-e-novita-normative
 /notizie-ispra/2024/03/dallemergenza-allefficienza-idrica
END:VEVENT
BEGIN:VTIMEZONE
TZID:Europe/Berlin
X-LIC-LOCATION:Europe/Berlin
BEGIN:STANDARD
DTSTART;VALUE=DATE-TIME:20231029T020000
TZNAME:CET
TZOFFSETFROM:+0200
TZOFFSETTO:+0100
END:STANDARD
END:VTIMEZONE
END:VCALENDAR
