BEGIN:VCALENDAR
VERSION:2.0
PRODID:-//Plone.org//NONSGML plone.app.event//EN
X-WR-TIMEZONE:Europe/Berlin
BEGIN:VEVENT
SUMMARY:Giornata Mondiale dell’Acqua. In Italia nel 2023 ridotta del 18%
  la disponibilità di acqua rispetto alla media annua calcolata dal 1951
DTSTART;VALUE=DATE:20240322
DTEND;VALUE=DATE:20240323
DTSTAMP;VALUE=DATE-TIME:20260420T235709Z
UID:7eba752e6db849578f4dd863a1799bde@www.isprambiente.gov.it
CREATED;VALUE=DATE-TIME:20240321T131334Z
DESCRIPTION:Siccità\, record di precipitazioni e alluvioni. Situazione m
 igliore rispetto al 2022 Le analisi dell’ISPRA sulla disponibilità di r
 isorsa idrica nazionale La disponibilità di risorsa idrica nell’anno 20
 23 conferma il trend negativo registrato da diversi anni in Italia\, anche
  se come mostrato dalle stime del BIGBANG (il modello idrologico nazionale
  realizzato dall’ISPRA) può considerarsi un anno in ripresa rispetto al
  2022.
LAST-MODIFIED;VALUE=DATE-TIME:20250107T094411Z
URL:https://www.isprambiente.gov.it/it/archivio/notizie-e-novita-normative
 /notizie-ispra/2024/03/giornata-mondiale-dell2019acqua-in-italia-nel-2023-
 ridotta-del-18-la-disponibilita-di-acqua-rispetto-alla-media-annua-calcola
 ta-dal-1951
END:VEVENT
END:VCALENDAR
