BEGIN:VCALENDAR
VERSION:2.0
PRODID:-//Plone.org//NONSGML plone.app.event//EN
X-WR-TIMEZONE:Europe/Berlin
BEGIN:VEVENT
SUMMARY:#teveremolluschifantastici...e dove trovarli. Escursione sul fiume
  Tevere per il monitoraggio dei molluschi
DTSTART;TZID=Europe/Berlin;VALUE=DATE-TIME:20240310T090000
DTEND;TZID=Europe/Berlin;VALUE=DATE-TIME:20240310T170000
DTSTAMP;VALUE=DATE-TIME:20260423T062513Z
UID:16fc494c77fa4066a4c6eed802ed8461@www.isprambiente.gov.it
CREATED;VALUE=DATE-TIME:20240307T102353Z
DESCRIPTION:Nell'ambito del progetto di Scienza partecipata " #teveremollu
 schifantastici...e dove trovarli  ”  è prevista per il 10 marzo una es
 cursione in canoa sul fiume Tevere finalizzata al monitoraggio dei mollusc
 hi.
LAST-MODIFIED;VALUE=DATE-TIME:20250107T094400Z
LOCATION:Gallese-Scalo in Teverina (VT)
URL:https://www.isprambiente.gov.it/it/archivio/notizie-e-novita-normative
 /notizie-ispra/2024/03/teveremolluschifantastici-e-dove-trovarli-escursion
 e-sul-fiume-tevere-per-il-monitoraggio-dei-molluschi
END:VEVENT
BEGIN:VTIMEZONE
TZID:Europe/Berlin
X-LIC-LOCATION:Europe/Berlin
BEGIN:STANDARD
DTSTART;VALUE=DATE-TIME:20231029T020000
TZNAME:CET
TZOFFSETFROM:+0200
TZOFFSETTO:+0100
END:STANDARD
END:VTIMEZONE
END:VCALENDAR
