BEGIN:VCALENDAR
VERSION:2.0
PRODID:-//Plone.org//NONSGML plone.app.event//EN
X-WR-TIMEZONE:Europe/Berlin
BEGIN:VEVENT
SUMMARY:World Seagrass Day
DTSTART;VALUE=DATE:20240301
DTEND;VALUE=DATE:20240302
DTSTAMP;VALUE=DATE-TIME:20260423T021229Z
UID:fd37a0a619e8478a95b4f267ffcc310c@www.isprambiente.gov.it
CREATED;VALUE=DATE-TIME:20240222T102359Z
DESCRIPTION:Il 1 marzo si celebra la Giornata mondiale delle fanerogame ma
 rine\, vitali per il mantenimento degli ecosistemi marini. ISPRA celebra q
 uesta ricorrenza con  3 video  indirizzati agli studenti\, dedicati alla P
 osidonia oceanica\, alla sua enorme valenza ecologica\, all’importanza d
 i una gestione sostenibile e una fruizione consapevole delle aree costiere
 .
LAST-MODIFIED;VALUE=DATE-TIME:20250107T094331Z
URL:https://www.isprambiente.gov.it/it/archivio/notizie-e-novita-normative
 /notizie-ispra/2024/03/world-seagrass-day
END:VEVENT
END:VCALENDAR
