BEGIN:VCALENDAR
VERSION:2.0
PRODID:-//Plone.org//NONSGML plone.app.event//EN
X-WR-TIMEZONE:Europe/Berlin
BEGIN:VEVENT
SUMMARY:Acqua: tra rischi e opportunità
DTSTART;TZID=Europe/Berlin;VALUE=DATE-TIME:20240423T150000
DTEND;TZID=Europe/Berlin;VALUE=DATE-TIME:20240423T170000
DTSTAMP;VALUE=DATE-TIME:20260423T061732Z
UID:11293b587d8d4bcba6764eb0154e9ba0@www.isprambiente.gov.it
CREATED;VALUE=DATE-TIME:20240423T113815Z
DESCRIPTION:Il convegno intende esplorare l'importanza dell'acqua in un mo
 ndo sempre più afflitto da eventi meteorologici estremi. La conferenza af
 fronta le sfide di adattamento e mitigazione\, focalizzandosi su iniziativ
 e innovative per sviluppare ecosistemi urbani resilienti\, superando il tr
 adizionale concetto di smart city. Il tema assume particolare rilevanza in
  vista della candidatura di Roma Capitale per ospitare il World Water Foru
 m nel 2027\, riconoscendo la città come un polo strategico per affrontare
  le sfide idriche globali. Durante il convegno è previsto l'intervento di
  due esperti ISPRA.
LAST-MODIFIED;VALUE=DATE-TIME:20250110T152239Z
LOCATION:TORINO - Environment Park - Via Livorno\, 60 e in streaming
URL:https://www.isprambiente.gov.it/it/archivio/notizie-e-novita-normative
 /notizie-ispra/2024/04/acqua-tra-rischi-e-opportunita
END:VEVENT
BEGIN:VTIMEZONE
TZID:Europe/Berlin
X-LIC-LOCATION:Europe/Berlin
BEGIN:DAYLIGHT
DTSTART;VALUE=DATE-TIME:20240331T030000
TZNAME:CEST
TZOFFSETFROM:+0100
TZOFFSETTO:+0200
END:DAYLIGHT
END:VTIMEZONE
END:VCALENDAR
