BEGIN:VCALENDAR
VERSION:2.0
PRODID:-//Plone.org//NONSGML plone.app.event//EN
X-WR-TIMEZONE:Europe/Berlin
BEGIN:VEVENT
SUMMARY:Amica Posidonia
DTSTART;VALUE=DATE:20240412
DTEND;VALUE=DATE:20240622
DTSTAMP;VALUE=DATE-TIME:20260421T113618Z
UID:0ebff9e19dd04268a52df17acce58b57@www.isprambiente.gov.it
CREATED;VALUE=DATE-TIME:20240408T090030Z
DESCRIPTION:Il comune di San Vincenzo (LI) promuove anche quest'anno un pr
 ogetto a tema ambiente e sostenibilità che ha come protagonista la Posido
 nia\, pianta marina molto presente lungo i litorali toscani e di fondament
 ale importanza per l'ecosistema marino. Gli eventi prenderanno il via vene
 rdì 12 aprile con le ricercatrici della sede ISPRA di Livorno che terrann
 o una lezione dedicata agli studenti delle scuole medie\, e si concluderan
 no il 21 giugno con una serata aperta a tutti: protagonista sempre la Posi
 donia\, una pianta da conoscere e proteggere.
LAST-MODIFIED;VALUE=DATE-TIME:20250110T152224Z
LOCATION:San Vincenzo (LI)
URL:https://www.isprambiente.gov.it/it/archivio/notizie-e-novita-normative
 /notizie-ispra/2024/04/amica-posidonia
END:VEVENT
END:VCALENDAR
