BEGIN:VCALENDAR
VERSION:2.0
PRODID:-//Plone.org//NONSGML plone.app.event//EN
X-WR-TIMEZONE:Europe/Berlin
BEGIN:VEVENT
SUMMARY:Festival della Green Economy
DTSTART;VALUE=DATE:20240405
DTEND;VALUE=DATE:20240408
DTSTAMP;VALUE=DATE-TIME:20260423T025739Z
UID:fa902da09942483484f15da5dca9d964@www.isprambiente.gov.it
CREATED;VALUE=DATE-TIME:20240320T161029Z
DESCRIPTION:Si terrà a Parma dal 5 al 7 aprile il  Festival della Green 
 Economy. Il 5 aprile nella sessione " Non ci sono più le mezze stagioni. 
 Cambiamento climatico e adattamento nel bacino del fiume Po" interverrà u
 n ricercatore ISPRA con l'intervento su "Il clima in Italia: precipitazion
 i e risorsa idrica\, cosa sta succedendo?"
LAST-MODIFIED;VALUE=DATE-TIME:20250107T095430Z
LOCATION:Parma
URL:https://www.isprambiente.gov.it/it/archivio/notizie-e-novita-normative
 /notizie-ispra/2024/04/festival-della-green-economy
END:VEVENT
END:VCALENDAR
