BEGIN:VCALENDAR
VERSION:2.0
PRODID:-//Plone.org//NONSGML plone.app.event//EN
X-WR-TIMEZONE:Europe/Berlin
BEGIN:VEVENT
SUMMARY:Giornata di presentazione del Progetto “Alla scoperta della biod
 iversità in città”
DTSTART;VALUE=DATE:20240416
DTEND;VALUE=DATE:20240417
DTSTAMP;VALUE=DATE-TIME:20260423T105322Z
UID:947c9f53c3a141fba8e06fd5b207a8a8@www.isprambiente.gov.it
CREATED;VALUE=DATE-TIME:20240404T114329Z
DESCRIPTION:Il progetto di Citizen science “Alla scoperta della biodiver
 sità in città” è promosso dal WWF Lombardia – sessione Insubria-Leg
 nano nell’ambito delle attività WWF Lombardia Educazione Ambientale e a
 lla Sostenibilità 2024/25. L’attività progettuale ha lo scopo di avvic
 inare studenti e cittadini alla scienza e in particolare e alla conoscenza
  della biodiversità del proprio territorio. Capofila del progetto sono l
 ’Istituto Agrario Mendel di Villa Cortese e l'Istituto Comprensivo Manzo
 ni di Legnano a (Milano).
LAST-MODIFIED;VALUE=DATE-TIME:20250110T152224Z
LOCATION:Legnano
URL:https://www.isprambiente.gov.it/it/archivio/notizie-e-novita-normative
 /notizie-ispra/2024/04/giornata-di-presentazione-del-progetto-201calla-sco
 perta-della-biodiversita-in-citta201d
END:VEVENT
END:VCALENDAR
