BEGIN:VCALENDAR
VERSION:2.0
PRODID:-//Plone.org//NONSGML plone.app.event//EN
X-WR-TIMEZONE:Europe/Berlin
BEGIN:VEVENT
SUMMARY:ISPRA al Festival delle Scienze di Roma
DTSTART;VALUE=DATE:20240416
DTEND;VALUE=DATE:20240422
DTSTAMP;VALUE=DATE-TIME:20260423T025826Z
UID:d15d0244305a42c888aab07b6abcfa92@www.isprambiente.gov.it
CREATED;VALUE=DATE-TIME:20240320T082709Z
DESCRIPTION:Dal 16 al 21 aprile 2024 il   Festival delle Scienze di Roma  
    torna all’Auditorium Parco della Musica Ennio Morricone con   la su
 a XIX edizione. Errori e meraviglie è il tema di questa edizione\, dedic
 ata alla meraviglia che accompagna ogni scoperta\, motore che spinge scien
 ziate e scienziati a esplorare\, a porsi domande e a mettere in discussion
 e le conoscenze consolidate\, andando sempre oltre. Meravigliarsi\, anche 
 di fronte a crisi e problemi\, è il primo passo per cercare nuove rispost
 e e soluzioni\, in un cammino non privo di passi falsi\, di disattese e sm
 entite\, di errori.     ISPRA è partner scientifico dell’evento e pro
 muove una serie di iniziative.
LAST-MODIFIED;VALUE=DATE-TIME:20250110T152209Z
LOCATION:Roma\, Auditorium Parco della Musica Ennio Morricone
URL:https://www.isprambiente.gov.it/it/archivio/notizie-e-novita-normative
 /notizie-ispra/2024/04/ispra-al-festival-delle-scienze-di-roma
END:VEVENT
END:VCALENDAR
