BEGIN:VCALENDAR
VERSION:2.0
PRODID:-//Plone.org//NONSGML plone.app.event//EN
X-WR-TIMEZONE:Europe/Berlin
BEGIN:VEVENT
SUMMARY:Le attività dell’ISPRA e la Tenuta Presidenziale di Castelporzi
 ano
DTSTART;VALUE=DATE:20240420
DTEND;VALUE=DATE:20240422
DTSTAMP;VALUE=DATE-TIME:20260420T103021Z
UID:1c336de4e08044e0895a924cee332480@www.isprambiente.gov.it
CREATED;VALUE=DATE-TIME:20240408T115946Z
DESCRIPTION:La Tenuta Presidenziale di Castelporziano è un’area natural
 e che si estende per 6000 ettari\, raggiungendo la linea di costa\, e dist
 a pochi chilometri dal centro di Roma. È un territorio unico\, coperto pe
 r un terzo da uno dei pochi esempi rimasti di bosco planiziale misto. L’
 area ospita moltissime specie animali\, rappresentando un punto di sosta p
 er molte specie di uccelli. È presente\, inoltre\, una complessa comunit
 à di ungulati selvatici: capriolo\, cinghiale\, daino e cervo.
LAST-MODIFIED;VALUE=DATE-TIME:20250110T152224Z
LOCATION:Roma\, Tenuta Presidenziale di Castelporziano
URL:https://www.isprambiente.gov.it/it/archivio/notizie-e-novita-normative
 /notizie-ispra/2024/04/le-attivita-dell2019ispra-e-la-tenuta-presidenziale
 -di-castelporziano
END:VEVENT
END:VCALENDAR
