BEGIN:VCALENDAR
VERSION:2.0
PRODID:-//Plone.org//NONSGML plone.app.event//EN
X-WR-TIMEZONE:Europe/Berlin
BEGIN:VEVENT
SUMMARY:Meravigliosa natura\, umani errori
DTSTART;VALUE=DATE:20240420
DTEND;VALUE=DATE:20240422
DTSTAMP;VALUE=DATE-TIME:20260419T223424Z
UID:0fb79e13cf3342b1a44e039143cd7dc3@www.isprambiente.gov.it
CREATED;VALUE=DATE-TIME:20240409T084504Z
DESCRIPTION:A partire dalla presentazione della  mostra Alieni in moviment
 o a Roma  (6 opere di street art raffiguranti specie aliene invasive reali
 zzate da Ilaria Paccini nell’ambito del progetto “Roma Speciale – Al
 ieni in movimento a Roma Capitale”) si racconterà attraverso l’antica
  tecnica narrativa giapponese del Kamishibai cosa sono le specie aliene in
 vasive e in che modo minacciano l’ambiente.
LAST-MODIFIED;VALUE=DATE-TIME:20250113T102852Z
LOCATION:Roma\, Auditorium Parco della Musica Ennio Morricone
URL:https://www.isprambiente.gov.it/it/archivio/notizie-e-novita-normative
 /notizie-ispra/2024/04/meravigliosa-natura-umani-errori
END:VEVENT
END:VCALENDAR
