BEGIN:VCALENDAR
VERSION:2.0
PRODID:-//Plone.org//NONSGML plone.app.event//EN
X-WR-TIMEZONE:Europe/Berlin
BEGIN:VEVENT
SUMMARY:Presentazione degli esiti del Progetto MAPP
DTSTART;VALUE=DATE:20240419
DTEND;VALUE=DATE:20240420
DTSTAMP;VALUE=DATE-TIME:20260423T062201Z
UID:a5d698add71b4c51b99ed979ac807d2e@www.isprambiente.gov.it
CREATED;VALUE=DATE-TIME:20240408T073103Z
DESCRIPTION:Il prossimo 19 aprile a Ferrara\, si svolgerà la presentazion
 e dei risultati del progetto MAPP (Monitoraggio Applicato alle Plastiche d
 el Po) promosso dall’Autorità di Bacino distrettuale del fiume Po e dal
 la Fondazione per lo Sviluppo Sostenibile. Il  progetto\,  avviato a giug
 no 2021\, ha utilizzato differenti strumenti e metodologie – alcune del 
 tutto innovative a livello europeo – per accrescere la comprensione del 
 fenomeno del plastic litter nel Po\, integrando le conoscenze già acquisi
 te negli anni scorsi con i progetti “Po d’Amare” e “Manta River Pr
 oject”.
LAST-MODIFIED;VALUE=DATE-TIME:20250110T152224Z
LOCATION:Ferrara
URL:https://www.isprambiente.gov.it/it/archivio/notizie-e-novita-normative
 /notizie-ispra/2024/04/presentazione-degli-esiti-del-progetto-mapp
END:VEVENT
END:VCALENDAR
