BEGIN:VCALENDAR
VERSION:2.0
PRODID:-//Plone.org//NONSGML plone.app.event//EN
X-WR-TIMEZONE:Europe/Berlin
BEGIN:VEVENT
SUMMARY:Emergenza alluvioni\, frane e siccità: il ruolo dell’ingegneria
  naturalistica e NBS - Nature Based Solutions
DTSTART;TZID=Europe/Berlin;VALUE=DATE-TIME:20240516T103000
DTEND;TZID=Europe/Berlin;VALUE=DATE-TIME:20240516T160000
DTSTAMP;VALUE=DATE-TIME:20260423T025834Z
UID:0135a3c071984f5cb574c79b2cd3aa10@www.isprambiente.gov.it
CREATED;VALUE=DATE-TIME:20240429T101956Z
DESCRIPTION:"Per risultati efficaci occorre interoperabilità\, necessari 
 interventi integrati e l'ingegneria naturalistica è partner importante in
  un percorso verso una corretta pianificazione dei territori" - ha detto i
 l Direttore generale ISPRA\, Maria Siclari\, intervenuta oggi al workshop
  organizzato da AIPIN e ISPRA sul tema del dissesto idrogeologico e del ca
 mbiamento climatico quali concause delle frequenti emergenze\, dei gravi d
 anni e delle numerose vittime che si registrano ogni anno.  "La conoscenza
  gioca un ruolo fondamentale: ISPRA ha censito 622 mila frane\, 2/3 del co
 ntesto europeo\, Rendis 25 mila interventi\, il cui 30% ricade su Rete Nat
 ura 2000. Senza dati scientificamente validati\, non possono attuarsi inte
 rventi utili alla mitigazione del rischio idrogeologico" - ha aggiunto il 
 Direttore generale.
LAST-MODIFIED;VALUE=DATE-TIME:20250110T152511Z
LOCATION:Roma\, sede ISPRA\, via Vitaliano Brancati 48
URL:https://www.isprambiente.gov.it/it/archivio/notizie-e-novita-normative
 /notizie-ispra/2024/05/emergenza-alluvioni-frane-e-siccita-il-ruolo-dellin
 gegneria-naturalistica-e-nbs-nature-based-solutions
END:VEVENT
BEGIN:VTIMEZONE
TZID:Europe/Berlin
X-LIC-LOCATION:Europe/Berlin
BEGIN:DAYLIGHT
DTSTART;VALUE=DATE-TIME:20240331T030000
TZNAME:CEST
TZOFFSETFROM:+0100
TZOFFSETTO:+0200
END:DAYLIGHT
END:VTIMEZONE
END:VCALENDAR
