BEGIN:VCALENDAR
VERSION:2.0
PRODID:-//Plone.org//NONSGML plone.app.event//EN
X-WR-TIMEZONE:Europe/Berlin
BEGIN:VEVENT
SUMMARY:Eventi idrici estremi e popolazioni indigene
DTSTART;VALUE=DATE:20240520
DTEND;VALUE=DATE:20240521
DTSTAMP;VALUE=DATE-TIME:20260423T025825Z
UID:c6dc78619a5641528b5d21bb1cfe03db@www.isprambiente.gov.it
CREATED;VALUE=DATE-TIME:20240520T054832Z
DESCRIPTION:In che modo le conoscenze possono supportare le misure di adat
 tamento climatico?   In occasione del 10° World Water Forum di Bali\, il 
 padiglione Water4All ospita il 20 maggio 2024 l’evento collaterale organ
 izzato nell’ambito del progetto  SD-WISHEES \, di cui ISPRA è partner\
 , dedicato al tema degli eventi idrici estremi e del loro impatto sul patr
 imonio culturale e naturale. I partner di progetto si confronteranno con g
 li esperti delle popolazioni delle aree colpite dall'erosione\, delle inon
 dazioni o dalla siccità sui percorsi di innovazione utili all'adattamento
  climatico e sul tema della rimozione delle barriere degli investimenti in
  questo settore.
LAST-MODIFIED;VALUE=DATE-TIME:20250113T103258Z
LOCATION:Bali
URL:https://www.isprambiente.gov.it/it/archivio/notizie-e-novita-normative
 /notizie-ispra/2024/05/eventi-idrici-estremi-e-popolazioni-indigene
END:VEVENT
END:VCALENDAR
