BEGIN:VCALENDAR
VERSION:2.0
PRODID:-//Plone.org//NONSGML plone.app.event//EN
X-WR-TIMEZONE:Europe/Berlin
BEGIN:VEVENT
SUMMARY:Forum Mondiale dell’Acqua. Bali 18-25 maggio 2024
DTSTART;VALUE=DATE:20240518
DTEND;VALUE=DATE:20240526
DTSTAMP;VALUE=DATE-TIME:20260423T062249Z
UID:04f58840d3054e618a2639755f6e8b11@www.isprambiente.gov.it
CREATED;VALUE=DATE-TIME:20240411T065031Z
DESCRIPTION:Dal 18 al 25 maggio si terrà a Bali\, Indonesia\, il 10° For
 um mondiale dell'acqua. Il tema di questa edizione è Acqua per una prospe
 rità condivisa. Il  World Water Forum  riunisce rappresentanti politici
  e della società civile\, autorità pubbliche\, accademici e settore priv
 ato per affrontare sfide globali relative alla gestione e alla sostenibili
 tà delle risorse idriche.
LAST-MODIFIED;VALUE=DATE-TIME:20250113T103258Z
LOCATION:Bali
URL:https://www.isprambiente.gov.it/it/archivio/notizie-e-novita-normative
 /notizie-ispra/2024/05/forum-mondiale-dell-acqua-bali-18-25-maggio-2024
END:VEVENT
END:VCALENDAR
