BEGIN:VCALENDAR
VERSION:2.0
PRODID:-//Plone.org//NONSGML plone.app.event//EN
X-WR-TIMEZONE:Europe/Berlin
BEGIN:VEVENT
SUMMARY:La misura idrologica nel Nordest
DTSTART;VALUE=DATE:20240530
DTEND;VALUE=DATE:20240531
DTSTAMP;VALUE=DATE-TIME:20260423T062248Z
UID:8bfc77f63967434abb717eac558ea673@www.isprambiente.gov.it
CREATED;VALUE=DATE-TIME:20240527T085539Z
DESCRIPTION:La misura idrologica ha assunto rilievo e importanza sempre ma
 ggiore in attività e studi compresi in ambiti sempre più estesi\, dalle 
 ricerche climatiche alle applicazioni in campo ambientale. Per tali ragion
 i la Sezione Veneta della Associazione Idrotecnica Italiana e l’Agenzia 
 Regionale per la Prevenzione e Protezione Ambientale della Regione Veneto 
 - ARPAV\, hanno ritenuto opportuno organizzare una Giornata di Studio sul 
 tema «La misura idrologica nel Nordest» mirata ad approfondire le conosc
 enze e le realizzazioni di maggiore interesse e prospettive di evoluzione 
 maturate in tale campo\, articolata in tre sessioni.
LAST-MODIFIED;VALUE=DATE-TIME:20250113T103320Z
LOCATION:Università degli Studi di Padova
URL:https://www.isprambiente.gov.it/it/archivio/notizie-e-novita-normative
 /notizie-ispra/2024/05/la-misura-idrologica-nel-nordest
END:VEVENT
END:VCALENDAR
