BEGIN:VCALENDAR
VERSION:2.0
PRODID:-//Plone.org//NONSGML plone.app.event//EN
X-WR-TIMEZONE:Europe/Berlin
BEGIN:VEVENT
SUMMARY:Summer school sulla Valutazione di Impatto Ambientale 2024: Biodiv
 ersità ed Acque
DTSTART;VALUE=DATE:20240610
DTEND;VALUE=DATE:20240615
DTSTAMP;VALUE=DATE-TIME:20260422T073308Z
UID:1f06db46050e477e822ccd8b76fb07ca@www.isprambiente.gov.it
CREATED;VALUE=DATE-TIME:20240418T070344Z
DESCRIPTION:L’ISPRA\, l’Università degli Studi di Palermo\, l’Agenz
 ia Regionale per la Protezione dell’Ambiente della Sicilia e il Comune d
 i Palermo organizzano la Scuola Estiva sulla Valutazione di Impatto Ambien
 tale che si svolgerà a Palermo dal 10 al 14 giugno 2024\, per la quale 
 è stato richiesto il patrocinio della Regione Siciliana.   L’evento for
 mativo si articolerà\, come da  programma \, in cinque giornate in cui le
  lezioni frontali si affiancheranno ad attività laboratoriali e sopralluo
 ghi.
LAST-MODIFIED;VALUE=DATE-TIME:20250110T152520Z
LOCATION:Palermo
URL:https://www.isprambiente.gov.it/it/archivio/notizie-e-novita-normative
 /notizie-ispra/2024/05/summer-school-sulla-valutazione-di-impatto-ambienta
 le-2024-biodiversita-ed-acque
END:VEVENT
END:VCALENDAR
