BEGIN:VCALENDAR
VERSION:2.0
PRODID:-//Plone.org//NONSGML plone.app.event//EN
X-WR-TIMEZONE:Europe/Berlin
BEGIN:VEVENT
SUMMARY:Acqua: elemento vitale\, risorsa essenziale. Condividere le conosc
 enze per affrontare il cambiamento
DTSTART;VALUE=DATE:20240624
DTEND;VALUE=DATE:20240629
DTSTAMP;VALUE=DATE-TIME:20260423T030555Z
UID:30d65a15e444426cb9f0c5f79f4450e7@www.isprambiente.gov.it
CREATED;VALUE=DATE-TIME:20240618T115320Z
DESCRIPTION:Si terrà a Lecco dal 24 al 28 giugno 2024 il XXVIII congresso
  dell’Associazione Italiana di Oceanologia e Limnologia (A.I.O.L.) che r
 iunisce esperti\, cittadinanza ed istituzioni responsabili della gestione 
 degli ecosistemi acquatici.
LAST-MODIFIED;VALUE=DATE-TIME:20250113T104144Z
LOCATION:Lecco
URL:https://www.isprambiente.gov.it/it/archivio/notizie-e-novita-normative
 /notizie-ispra/2024/06/acqua-elemento-vitale-risorsa-essenziale-condivider
 e-le-conoscenze-per-affrontare-il-cambiamento
END:VEVENT
END:VCALENDAR
