BEGIN:VCALENDAR
VERSION:2.0
PRODID:-//Plone.org//NONSGML plone.app.event//EN
X-WR-TIMEZONE:Europe/Berlin
BEGIN:VEVENT
SUMMARY:Water intelligence. L'evoluzione delle tecnologie dedicate alla ge
 stione dell'acqua
DTSTART;TZID=Europe/Berlin;VALUE=DATE-TIME:20240620T110000
DTEND;TZID=Europe/Berlin;VALUE=DATE-TIME:20240620T130000
DTSTAMP;VALUE=DATE-TIME:20260423T062335Z
UID:27bf2022e2054be494311dc1fa024f60@www.isprambiente.gov.it
CREATED;VALUE=DATE-TIME:20240614T071016Z
DESCRIPTION:“Le azioni di mitigazione e di adattamento agli impatti dei 
 cambiamenti climatici sulla risorsa idrica non possono prescindere dal pot
 enziamento delle conoscenze" così il Direttore generale ISPRA\, Maria Sic
 lari\, intervenuta oggi alla sessione "Le politiche di adattamento per la
  sicurezza idrica e idrogeologica".    "Solo un quadro conoscitivo in temp
 o (quasi) reale può garantire una gestione della risorsa idrica sostenibi
 le sia per ecosistemi che per fabbisogno civile e settori produttivi" - ha
  detto il Direttore ISPRA "Tecnologie e Intelligenza artificiale   sono i
  nostri migliori alleati per il perseguimento di questo obiettivo."
LAST-MODIFIED;VALUE=DATE-TIME:20250113T104129Z
LOCATION:Roma\, sede di Confagricoltura\, Palazzo Della Valle
URL:https://www.isprambiente.gov.it/it/archivio/notizie-e-novita-normative
 /notizie-ispra/2024/06/water-intelligence-levoluzione-delle-tecnologie-ded
 icate-alla-gestione-dellacqua
END:VEVENT
BEGIN:VTIMEZONE
TZID:Europe/Berlin
X-LIC-LOCATION:Europe/Berlin
BEGIN:DAYLIGHT
DTSTART;VALUE=DATE-TIME:20240331T030000
TZNAME:CEST
TZOFFSETFROM:+0100
TZOFFSETTO:+0200
END:DAYLIGHT
END:VTIMEZONE
END:VCALENDAR
