BEGIN:VCALENDAR
VERSION:2.0
PRODID:-//Plone.org//NONSGML plone.app.event//EN
X-WR-TIMEZONE:Europe/Berlin
BEGIN:VEVENT
SUMMARY:Biodiversità e ambiente
DTSTART;TZID=Europe/Berlin;VALUE=DATE-TIME:20240927T170000
DTEND;TZID=Europe/Berlin;VALUE=DATE-TIME:20240927T233000
DTSTAMP;VALUE=DATE-TIME:20260423T121904Z
UID:34838949023f445f81c4a837db83ccd7@www.isprambiente.gov.it
CREATED;VALUE=DATE-TIME:20240906T062311Z
DESCRIPTION:Scegli un reperto e ti racconterò la sua storia Partecipazion
 e alla Notte dei Ricercatori ospiti di SOCIETY reAGIAMO. Stand espositivo 
 di strumentazione di campo e campioni biologico sulla nostra fauna terrest
 re e sull'ambiente marino. Giochi ed attività interattivi per tutte le et
 à sui rilevamenti faunistici dal riconoscimento di uccelli e mammiferi\, 
 alla loro biologia e dai loro segni di presenza come impronte\, tane\, tra
 cce... Materiali espositivi anche su plastiche ed inquinamento marino. Dim
 ostrazione di funzionamento di strumentazione. Videoproiezioni\, poster\, 
 rollup\, e molto altro
LAST-MODIFIED;VALUE=DATE-TIME:20250122T082204Z
LOCATION:Bologna\, Area territoriale di ricerca CNR\, Via Gobetti 101
URL:https://www.isprambiente.gov.it/it/archivio/notizie-e-novita-normative
 /notizie-ispra/2024/09/biodiversita-e-ambiente
END:VEVENT
BEGIN:VTIMEZONE
TZID:Europe/Berlin
X-LIC-LOCATION:Europe/Berlin
BEGIN:DAYLIGHT
DTSTART;VALUE=DATE-TIME:20240331T030000
TZNAME:CEST
TZOFFSETFROM:+0100
TZOFFSETTO:+0200
END:DAYLIGHT
END:VTIMEZONE
END:VCALENDAR
