BEGIN:VCALENDAR
VERSION:2.0
PRODID:-//Plone.org//NONSGML plone.app.event//EN
X-WR-TIMEZONE:Europe/Berlin
BEGIN:VEVENT
SUMMARY:Come fa la Posidonia a difendere le nostre spiagge?
DTSTART;TZID=Europe/Berlin;VALUE=DATE-TIME:20240927T183000
DTEND;TZID=Europe/Berlin;VALUE=DATE-TIME:20240927T235500
DTSTAMP;VALUE=DATE-TIME:20260423T123020Z
UID:e5f1ba80e4a84b8b946bfe49b85f708e@www.isprambiente.gov.it
CREATED;VALUE=DATE-TIME:20240906T064451Z
DESCRIPTION:Sharper organizza anche quest'anno la Notte Europea dei Ricerc
 atori a Palermo e ISPRA parteciperà con tante attività. Dimostrazioni 
 e soprattutto giochi per conoscere meglio l'ambiente marino e cosa lo mina
 ccia. Vieni a fare scienzainsieme...giocando! Ti aspettiamo    Molte att
 ività umane possono danneggiare le nostre coste modificando il normale re
 gime idrodinamico costiero e causando importanti alterazioni dei sedimenti
 . La costruzione di opere costiere\, spiagge artificiali\, dighe foranee\,
  la posa di cavi e condotte sottomarine\, ecc. sono tra le attività che m
 aggiormente possono accelerare l’erosione costiera.
LAST-MODIFIED;VALUE=DATE-TIME:20250122T082215Z
LOCATION:Palermo\, Campus Università - viale delle Scienze
URL:https://www.isprambiente.gov.it/it/archivio/notizie-e-novita-normative
 /notizie-ispra/2024/09/come-fa-la-posidonia-a-difendere-le-nostre-spiagge
END:VEVENT
BEGIN:VTIMEZONE
TZID:Europe/Berlin
X-LIC-LOCATION:Europe/Berlin
BEGIN:DAYLIGHT
DTSTART;VALUE=DATE-TIME:20240331T030000
TZNAME:CEST
TZOFFSETFROM:+0100
TZOFFSETTO:+0200
END:DAYLIGHT
END:VTIMEZONE
END:VCALENDAR
