BEGIN:VCALENDAR
VERSION:2.0
PRODID:-//Plone.org//NONSGML plone.app.event//EN
X-WR-TIMEZONE:Europe/Berlin
BEGIN:VEVENT
SUMMARY:Ed io dove mi metto??? A ciascuno il suo ambiente in mare (marino)
DTSTART;TZID=Europe/Berlin;VALUE=DATE-TIME:20240928T183000
DTEND;TZID=Europe/Berlin;VALUE=DATE-TIME:20240928T230000
DTSTAMP;VALUE=DATE-TIME:20260423T122322Z
UID:38c73e1e2810446c865b3cc28935fe05@www.isprambiente.gov.it
CREATED;VALUE=DATE-TIME:20240905T120745Z
LAST-MODIFIED;VALUE=DATE-TIME:20250122T082215Z
LOCATION:Roma Testaccio – Città dell’Altra Economia
URL:https://www.isprambiente.gov.it/it/archivio/notizie-e-novita-normative
 /notizie-ispra/2024/09/ed-io-dove-mi-metto-a-ciascuno-il-suo-ambiente-in-m
 are-marino
END:VEVENT
BEGIN:VTIMEZONE
TZID:Europe/Berlin
X-LIC-LOCATION:Europe/Berlin
BEGIN:DAYLIGHT
DTSTART;VALUE=DATE-TIME:20240331T030000
TZNAME:CEST
TZOFFSETFROM:+0100
TZOFFSETTO:+0200
END:DAYLIGHT
END:VTIMEZONE
END:VCALENDAR
