BEGIN:VCALENDAR
VERSION:2.0
PRODID:-//Plone.org//NONSGML plone.app.event//EN
X-WR-TIMEZONE:Europe/Berlin
BEGIN:VEVENT
SUMMARY:Escursione "Network Nazionale della Biodiversità: #Tevere mollusc
 hi fantastici…e dove trovarli"
DTSTART;TZID=Europe/Berlin;VALUE=DATE-TIME:20240928T180000
DTEND;TZID=Europe/Berlin;VALUE=DATE-TIME:20240928T230000
DTSTAMP;VALUE=DATE-TIME:20260421T142725Z
UID:5ea1bd5af9dd4e5bb8c4d0e100397f80@www.isprambiente.gov.it
CREATED;VALUE=DATE-TIME:20240905T083923Z
DESCRIPTION:Attività del progetto di Citizen Science\, all'interno del  N
 etwork Nazionale della Biodiversità\,  per il monitoraggio di molluschi p
 resenti nel fiume Tevere. Visione della distribuzione di specie su PC\, im
 patto e distribuzione specie alloctone e competizione con quelle autoctone
 \, mostra esemplari dei molluschi presenti\, con 2 mini-microscopi didatti
 ci sarà possibile veder quelli più piccoli.
LAST-MODIFIED;VALUE=DATE-TIME:20250122T082146Z
LOCATION:Roma Testaccio – Città dell’Altra Economia
URL:https://www.isprambiente.gov.it/it/archivio/notizie-e-novita-normative
 /notizie-ispra/2024/09/escursione-network-nazionale-della-biodiversita-tev
 ere-molluschi-fantastici-e-dove-trovarli
END:VEVENT
BEGIN:VTIMEZONE
TZID:Europe/Berlin
X-LIC-LOCATION:Europe/Berlin
BEGIN:DAYLIGHT
DTSTART;VALUE=DATE-TIME:20240331T030000
TZNAME:CEST
TZOFFSETFROM:+0100
TZOFFSETTO:+0200
END:DAYLIGHT
END:VTIMEZONE
END:VCALENDAR
