BEGIN:VCALENDAR
VERSION:2.0
PRODID:-//Plone.org//NONSGML plone.app.event//EN
X-WR-TIMEZONE:Europe/Berlin
BEGIN:VEVENT
SUMMARY:Giochiamo al visual census - il nostro mare: alla scoperta dei pes
 ci del Mediterraneo
DTSTART;TZID=Europe/Berlin;VALUE=DATE-TIME:20240928T183000
DTEND;TZID=Europe/Berlin;VALUE=DATE-TIME:20240928T230000
DTSTAMP;VALUE=DATE-TIME:20260423T124208Z
UID:04f9eaa4e77649deb1ca88664e1779bf@www.isprambiente.gov.it
CREATED;VALUE=DATE-TIME:20240905T113651Z
LAST-MODIFIED;VALUE=DATE-TIME:20250122T082215Z
LOCATION:Roma Testaccio – Città dell’Altra Economia
URL:https://www.isprambiente.gov.it/it/archivio/notizie-e-novita-normative
 /notizie-ispra/2024/09/giochiamo-al-visual-census-il-nostro-mare-alla-scop
 erta-dei-pesci-del-mediterraneo
END:VEVENT
BEGIN:VTIMEZONE
TZID:Europe/Berlin
X-LIC-LOCATION:Europe/Berlin
BEGIN:DAYLIGHT
DTSTART;VALUE=DATE-TIME:20240331T030000
TZNAME:CEST
TZOFFSETFROM:+0100
TZOFFSETTO:+0200
END:DAYLIGHT
END:VTIMEZONE
END:VCALENDAR
