BEGIN:VCALENDAR
VERSION:2.0
PRODID:-//Plone.org//NONSGML plone.app.event//EN
X-WR-TIMEZONE:Europe/Berlin
BEGIN:VEVENT
SUMMARY:Giochiamo con specie aliene e rifiuti marini
DTSTART;TZID=Europe/Berlin;VALUE=DATE-TIME:20240927T183000
DTEND;TZID=Europe/Berlin;VALUE=DATE-TIME:20240927T235500
DTSTAMP;VALUE=DATE-TIME:20260421T161758Z
UID:1017d069c3934ea2820982ca4e047263@www.isprambiente.gov.it
CREATED;VALUE=DATE-TIME:20240906T063553Z
DESCRIPTION:Il Game Based Learning come strumento di apprendimento divert
 ente e immediato per conoscere alcuni tra gli intrusi del Mar Mediterraneo
  (rifiuti\, specie aliene ed altre pressioni antropiche) e i loro effetti 
 su ambiente e salute umana.   Sharper organizza anche quest'anno la Notte 
 Europea dei Ricercatori a Palermo e ISPRA parteciperà con tante attivit
 à. Dimostrazioni e soprattutto giochi per conoscere meglio l'ambiente mar
 ino e cosa lo minaccia. Vieni a fare scienzainsieme...giocando! Ti aspet
 tiamo
LAST-MODIFIED;VALUE=DATE-TIME:20250122T082215Z
LOCATION:Palermo\, Campus Università - viale delle Scienze
URL:https://www.isprambiente.gov.it/it/archivio/notizie-e-novita-normative
 /notizie-ispra/2024/09/giochiamo-con-specie-aliene-e-rifiuti-marini
END:VEVENT
BEGIN:VTIMEZONE
TZID:Europe/Berlin
X-LIC-LOCATION:Europe/Berlin
BEGIN:DAYLIGHT
DTSTART;VALUE=DATE-TIME:20240331T030000
TZNAME:CEST
TZOFFSETFROM:+0100
TZOFFSETTO:+0200
END:DAYLIGHT
END:VTIMEZONE
END:VCALENDAR
