BEGIN:VCALENDAR
VERSION:2.0
PRODID:-//Plone.org//NONSGML plone.app.event//EN
X-WR-TIMEZONE:Europe/Berlin
BEGIN:VEVENT
SUMMARY:Le emissioni in atmosfera
DTSTART;TZID=Europe/Berlin;VALUE=DATE-TIME:20240927T150000
DTEND;TZID=Europe/Berlin;VALUE=DATE-TIME:20240927T190000
DTSTAMP;VALUE=DATE-TIME:20260423T123003Z
UID:fecdc81170cf442b983b5c1ac5f14cf7@www.isprambiente.gov.it
CREATED;VALUE=DATE-TIME:20240906T065509Z
DESCRIPTION:I gas serra    Introduzione ai gas serra: caratteristiche ed e
 ffetti sul clima. La contabilità dei gas serra: la struttura dell'Inventa
 rio nazionale delle emissioni. Focus sul settore delle emissioni dai trasp
 orti: il peso del trasporto su strada sulle emissioni di gas serra in atmo
 sfera. Il visitatore viene guidato in maniera semplice e chiara al tema de
 lle emissioni di gas serra e all'articolazione delle stime per i vari sett
 ori.
LAST-MODIFIED;VALUE=DATE-TIME:20250122T082215Z
LOCATION:Venezia\, Calle larga dell'Ascension San Marco\, 1260
URL:https://www.isprambiente.gov.it/it/archivio/notizie-e-novita-normative
 /notizie-ispra/2024/09/le-emissioni-in-atmosfera
END:VEVENT
BEGIN:VTIMEZONE
TZID:Europe/Berlin
X-LIC-LOCATION:Europe/Berlin
BEGIN:DAYLIGHT
DTSTART;VALUE=DATE-TIME:20240331T030000
TZNAME:CEST
TZOFFSETFROM:+0100
TZOFFSETTO:+0200
END:DAYLIGHT
END:VTIMEZONE
END:VCALENDAR
